Workbook

Sheet Instruction Sheet
A1: Electric Vehicles in CBD, Quetta (The Project)
A2: Bidding Financial Model
A4: The Procuring Agencies intends to engage a private party on Public Private Partnership (PPP) mode to procure, operate and maintain a fleet of Thirty (30) EVs on a defined (03) routes in Central Business District, Quetta, (the “Project”). The Project is being undertaken via DBFOMT model and focuses on addressing the growing mobility and traffic congestion challenges in Quetta. In case of extension of routes, the concessionaire may be required to operate on additional routes with additional fleet/vehicles under the same contract as per Section 19A of the PPP Agreement. The concessionaire will be responsible to procure the 30 EVs / charging station and operate on the 03 routes in CBD. The Government of Balochistan will support the project and will be responsible to install 300 KW solar system with battery swapping station and installing EV (bus) stops (one time support with separate procurement under Balochistan Public Procurement Regulatory Authority Rules). There is no GoB (financial) support for the operations of the project as the project is evaluated to be financially/commercially viable.
A9: Note:
A10: Please fill in the cells highlighted in dark green with your estimates and assumptions in each sheet
A11: Red highlighted text contains critical information to fill the finanical model | B11: Red Highlighted Text
A12: Any amendments made should be duly noted in the 'Amendment Sheet' with due rationale
A13: In case of discrepancy between this bidding financial model and RFP Financial Forms, the values of the RFP Finanical Forms will prevail.

Sheet Amendment Sheet

Sheet Data Sheet
A1: Route 1 details | D1: Route 2 details | G1: Route 3 details
A2: Distance (km) | B2: 2.9 | D2: Distance (km) | E2: 4.5 | G2: Distance (km) | H2: 4
A3: No of stops | B3: 12 | D3: No of stops | E3: 18 | G3: No of stops | H3: 18
A4: EV Speed (km/h) | B4: 15 | D4: EV Speed (km/h) | E4: 15 | G4: EV Speed (km/h) | H4: 15
A6: Shuttle trip details | D6: Shuttle trip details | G6: Shuttle trip details
A7: time to complete one trip (mins) | B7: =B2/B4*60 -> 11.6 | D7: time to complete one trip (mins) | E7: =E2/E4*60 -> 18 | G7: time to complete one trip (mins) | H7: =H2/H4*60 -> 16
A8: Headway time (mins) | B8: 5 | D8: Headway time (mins) | E8: 5 | G8: Headway time (mins) | H8: 5
A9: Layover time (mins) | B9: 5 | D9: Layover time (mins) | E9: 5 | G9: Layover time (mins) | H9: 5
A10: Total time for 1 trip | B10: =B7+B9 -> 16.6 | D10: Total time for 1 trip | E10: =E7+E9 -> 23 | G10: Total time for 1 trip | H10: =H7+H9 -> 21
A11: Time available per day (mins) | B11: 720 | D11: Time available per day (mins) | E11: 720 | G11: Time available per day (mins) | H11: 720
A12: One EV total trips per day | B12: =B11/B10 -> 43.373494 | D12: One EV total trips per day | E12: =E11/E10 -> 31.304348 | G12: One EV total trips per day | H12: =H11/H10 -> 34.285714
A13: Total Trips = All EVS | B13: =B14*B12 -> 260.24096 | D13: Total Trips = All EVS | E13: =E14*E12 -> 313.04348 | G13: Total Trips = All EVS | H13: =H14*H12 -> 274.28571
A14: No of Evs required | B14: =ROUND(B10/B8,0)*2 -> 6 | D14: No of Evs required | E14: =ROUND(E10/E8,0)*2 -> 10 | G14: No of Evs required | H14: =ROUND(H10/H8,0)*2 -> 8
A15: Average Milage per day | B15: =B2*B12*B14 -> 754.6988 | D15: Average Milage per day | E15: =E2*E12*E14 -> 1408.6957 | G15: Average Milage per day | H15: =H2*H12*H14 -> 1097.1429
A16: Passangers per trip | B16: =(10+(10*0.2*(B3-1))) -> 32 | D16: Passangers per trip | E16: =(10+(10*0.2*(E3-1))) -> 44 | G16: Passangers per trip | H16: =(10+(10*0.2*(H3-1))) -> 44
A17: Passangers per day per EV | B17: =B16*B12 -> 1387.9518 | D17: Passangers per day per EV | E17: =E16*E12 -> 1377.3913 | G17: Passangers per day per EV | H17: =H16*H12 -> 1508.5714
A18: Passangers per day all Evs | B18: =B17*B14 -> 8327.7108 | D18: Passangers per day all Evs | E18: =E17*E14 -> 13773.913 | G18: Passangers per day all Evs | H18: =H17*H14 -> 12068.571
A19: Fare per person (Rs) | B19: 20 | D19: Fare per person (Rs) | E19: =B19 -> 20 | G19: Fare per person (Rs) | H19: =E19 -> 20
A20: Total Fare per day (Rs) 1 EV | B20: =B17*B19 -> 27759.036 | D20: Total Fare per day (Rs) 1 EV | E20: =E17*E19 -> 27547.826 | G20: Total Fare per day (Rs) 1 EV | H20: =H17*H19 -> 30171.429
A22: Summary
A23: Total EVs required | B23: =B14+E14+H14 -> 24
A24: Total Distance (km) | B24: =B2+E2+H2 -> 11.4
A25: Total Trips | B25: =(B12*B14)+(E12*E14)+(H12*H14) -> 847.57016
A26: Total Mileage per day (km) | B26: =B15+E15+H15 -> 3260.5373
A27: Total Passegers per day | B27: =B18+E18+H18 -> 34170.195
A28: Occupancy Factor | B28: 0.45
A29: Total Occupied capacity | B29: =B27*B28 -> 15376.588
A30: Daily Fare Collection (one Unit) | B30: =B29*B19 -> 307531.76
A31: Daily Fare Collection (All Units)
A32: Monthly Fare Collection | B32: =B30*30 -> 9225952.7
A33: Annual Fare Collecction | B33: =B32*12 -> 1.1071143e+08
A34: Annual Increase | B34: 0.07
A36: CAPEX
A37: No of EVs | B37: 30
A38: Cost per EV | C38: Insert value of Electric Vehicle at B38
A39: Charger Cost | C39: Insert value of Electric Charger at B39
A40: No. of Chargers | B40: 4
A41: Total Charging Cost | B41: =B39*B40 -> 0
A42: Registration and other | B42: 500000
A43: Total Cost | B43: =B37*(B38+B42)+(B39*B40) -> 15000000
...

Sheet Cash Flow
E1: Total | F1: 1 | G1: Monthly | H1: Daily | I1: 2 | J1: 3 | K1: 4 | L1: 5 | M1: 6 | N1: 7
D2: Subsidy | E2: =SUM(F2:N2) -> 0 | F2: =[1]Sheet1!E27*[1]Sheet1!E9 -> 0 | G2: =F2/12 -> 0 | H2: =G2/30 -> 0 | I2: =F2*(1+[1]Sheet1!$E$8) -> 0 | J2: =I2*(1+[1]Sheet1!$E$8) -> 0 | K2: =J2*(1+[1]Sheet1!$E$8) -> 0 | L2: =K2*(1+[1]Sheet1!$E$8) -> 0 | M2: =L2*(1+[1]Sheet1!$E$8) -> 0 | N2: =M2*(1+[1]Sheet1!$E$8) -> 0
D3: Fare Revenue | E3: =SUM(F3:N3) -> 9.6763256e+08 | F3: ='Data Sheet'!B33 -> 1.1071143e+08 | G3: =F3/12 -> 9225952.7 | H3: =G3/30 -> 307531.76 | I3: =F3*(1+[1]Sheet1!$B$30) -> 1.1846123e+08 | J3: =I3*(1+[1]Sheet1!$B$30) -> 1.2675352e+08 | K3: =J3*(1+[1]Sheet1!$B$30) -> 1.3562627e+08 | L3: =K3*(1+[1]Sheet1!$B$30) -> 1.451201e+08 | M3: =L3*(1+[1]Sheet1!$B$30) -> 1.5527851e+08 | N3: =M3*(1+[1]Sheet1!$B$30) -> 1.6614801e+08
D4: Total Revenue | E4: =SUM(F4:N4) -> 9.6763256e+08 | F4: =SUM(F2:F3) -> 1.1071143e+08 | G4: =SUM(G2:G3) -> 9225952.7 | H4: =SUM(H2:H3) -> 307531.76 | I4: =SUM(I2:I3) -> 1.1846123e+08 | J4: =SUM(J2:J3) -> 1.2675352e+08 | K4: =SUM(K2:K3) -> 1.3562627e+08 | L4: =SUM(L2:L3) -> 1.451201e+08 | M4: =SUM(M2:M3) -> 1.5527851e+08 | N4: =SUM(N2:N3) -> 1.6614801e+08
D6: Cost of Sales
D7: Salaries | E7: =SUM(F7:N7) -> 2.0102304e+08 | F7: 23000000 | G7: =F7/12 -> 1916666.7 | H7: =G7/30 -> 63888.889 | I7: =F7*(1+[1]Sheet1!$B$48) -> 24610000 | J7: =I7*(1+[1]Sheet1!$B$48) -> 26332700 | K7: =J7*(1+[1]Sheet1!$B$48) -> 28175989 | L7: =K7*(1+[1]Sheet1!$B$48) -> 30148308 | M7: =L7*(1+[1]Sheet1!$B$48) -> 32258690 | N7: =M7*(1+[1]Sheet1!$B$48) -> 34516798
D8: Fuel | E8: =SUM(F8:N8) -> 0 | F8: 0 | G8: =F8/12 -> 0 | H8: =G8/30 -> 0 | I8: =F8*(1+[1]Sheet1!$B$46) -> 0 | J8: =I8*(1+[1]Sheet1!$B$46) -> 0 | K8: =J8*(1+[1]Sheet1!$B$46) -> 0 | L8: =K8*(1+[1]Sheet1!$B$46) -> 0 | M8: =L8*(1+[1]Sheet1!$B$46) -> 0 | N8: =M8*(1+[1]Sheet1!$B$46) -> 0
D9: Repairs & Maintenance | E9: =SUM(F9:N9) -> 0 | F9: ='Data Sheet'!B26*365*'Data Sheet'!B49 -> 0 | G9: =F9/12 -> 0 | H9: =G9/30 -> 0 | I9: =F9*(1+'Data Sheet'!$B$50) -> 0 | J9: =I9*(1+'Data Sheet'!$B$50) -> 0 | K9: =J9*(1+'Data Sheet'!$B$50) -> 0 | L9: =K9*(1+'Data Sheet'!$B$50) -> 0 | M9: =L9*(1+'Data Sheet'!$B$50) -> 0 | N9: =M9*(1+'Data Sheet'!$B$50) -> 0
D10: Depreciation | E10: =SUM(F10:N10) -> 15184524 | F10: ='Data Sheet'!B76 -> 2142857.1 | G10: =F10/12 -> 178571.43 | H10: =G10/30 -> 5952.381 | I10: =F10 -> 2142857.1 | J10: =I10 -> 2142857.1 | K10: =J10 -> 2142857.1 | L10: =I10 -> 2142857.1 | M10: =J10 -> 2142857.1 | N10: =K10 -> 2142857.1
D11: Management Fees | E11: =SUM(F11:N11) -> 0 | F11: 0 | G11: =F11/12 -> 0 | H11: =G11/30 -> 0 | I11: 0 | J11: 0 | K11: 0 | L11: 0 | M11: 0 | N11: 0
D12: Misc Exp | E12: =SUM(F12:N12) -> 0 | F12: =[1]Sheet1!$J$38*12 -> 0 | G12: =F12/12 -> 0 | H12: =G12/30 -> 0 | I12: =[1]Sheet1!$J$38*12 -> 0 | J12: =[1]Sheet1!$J$38*12 -> 0 | K12: =[1]Sheet1!$J$38*12 -> 0 | L12: =[1]Sheet1!$J$38*12 -> 0 | M12: =[1]Sheet1!$J$38*12 -> 0 | N12: =[1]Sheet1!$J$38*12 -> 0
D13: Provision for Penalties | E13: =SUM(F13:N13) -> 0 | F13: =[1]Sheet1!$J$39*'[2]P&L'!C4 -> 0 | G13: =F13/12 -> 0 | H13: =G13/30 -> 0 | I13: =[1]Sheet1!$J$39*'[2]P&L'!F4 -> 0 | J13: =[1]Sheet1!$J$39*'[2]P&L'!G4 -> 0 | K13: =[1]Sheet1!$J$39*'[2]P&L'!H4 -> 0 | L13: =[1]Sheet1!$J$39*'[2]P&L'!I4 -> 0 | M13: =[1]Sheet1!$J$39*'[2]P&L'!J4 -> 0 | N13: =[1]Sheet1!$J$39*'[2]P&L'!K4 -> 0
D14: Insurance | E14: =SUM(F14:N14) -> 4307977 | F14: ='Data Sheet'!B43*3% -> 450000 | G14: =F14/12 -> 37500 | H14: =G14/30 -> 1250 | I14: =F14*1.1 -> 495000 | J14: =I14*1.1 -> 544500 | K14: =J14*1.1 -> 598950 | L14: =K14*1.1 -> 658845 | M14: =L14*1.1 -> 724729.5 | N14: =M14*1.1 -> 797202.45
D15: Others | E15: =SUM(F15:N15) -> 0 | G15: =F15/12 -> 0 | H15: =G15/30 -> 0 | I15: =F15*1.1 -> 0 | J15: =I15*1.1 -> 0 | K15: =J15*1.1 -> 0 | L15: =K15*1.1 -> 0 | M15: =L15*1.1 -> 0 | N15: =M15*1.1 -> 0 | O15: Insert Annual Value for other costs at C15
E16: =SUM(E7:E15) -> 2.2051554e+08 | F16: =SUM(F7:F15) -> 25592857 | G16: =F16/12 -> 2132738.1 | H16: =G16/30 -> 71091.27 | I16: =SUM(I7:I15) -> 27247857 | J16: =SUM(J7:J15) -> 29020057 | K16: =SUM(K7:K15) -> 30917796 | L16: =SUM(L7:L15) -> 32950010 | M16: =SUM(M7:M15) -> 35126276 | N16: =SUM(N7:N15) -> 37456858
D17: Gross Profit | E17: =E4-E16 -> 7.4711702e+08 | F17: =F4-F16 -> 85118576 | G17: =F17/12 -> 7093214.6 | H17: =G17/30 -> 236440.49 | I17: =I4-I16 -> 91213376 | J17: =J4-J16 -> 97733462 | K17: =K4-K16 -> 1.0470847e+08 | L17: =L4-L16 -> 1.1217009e+08 | M17: =M4-M16 -> 1.2015224e+08 | N17: =N4-N16 -> 1.2869115e+08
G18: =F18/12 -> 0 | H18: =G18/30 -> 0
D19: Administrative Exp | G19: =F19/12 -> 0 | H19: =G19/30 -> 0
D20: Salaries | E20: =SUM(F20:N20) -> 34960529 | F20: 4000000 | G20: =F20/12 -> 333333.33 | H20: =G20/30 -> 11111.111 | I20: =F20*(1+[1]Sheet1!$B$57) -> 4280000 | J20: =I20*(1+[1]Sheet1!$B$57) -> 4579600 | K20: =J20*(1+[1]Sheet1!$B$57) -> 4900172 | L20: =K20*(1+[1]Sheet1!$B$57) -> 5243184 | M20: =L20*(1+[1]Sheet1!$B$57) -> 5610206.9 | N20: =M20*(1+[1]Sheet1!$B$57) -> 6002921.4
D21: Utilities | E21: =SUM(F21:N21) -> 4838162.8 | F21: =F4*[1]Sheet1!$B$60 -> 553557.16 | G21: =F21/12 -> 46129.764 | H21: =G21/30 -> 1537.6588 | I21: =I4*[1]Sheet1!$B$60 -> 592306.17 | J21: =J4*[1]Sheet1!$B$60 -> 633767.6 | K21: =K4*[1]Sheet1!$B$60 -> 678131.33 | L21: =L4*[1]Sheet1!$B$60 -> 725600.52 | M21: =M4*[1]Sheet1!$B$60 -> 776392.56 | N21: =N4*[1]Sheet1!$B$60 -> 830740.04
D22: Others | E22: =SUM(F22:N22) -> 0 | G22: =F22/12 -> 0 | H22: =G22/30 -> 0 | I22: =F22*1.1 -> 0 | J22: =I22*1.1 -> 0 | K22: =J22*1.1 -> 0 | L22: =K22*1.1 -> 0 | M22: =L22*1.1 -> 0 | N22: =M22*1.1 -> 0 | O22: Insert Annual Value for other costs at C22
E23: =SUM(E20:E22) -> 39798692 | F23: =SUM(F20:F22) -> 4553557.2 | G23: =F23/12 -> 379463.1 | H23: =G23/30 -> 12648.77 | I23: =SUM(I20:I22) -> 4872306.2 | J23: =SUM(J20:J22) -> 5213367.6 | K23: =SUM(K20:K22) -> 5578303.3 | L23: =SUM(L20:L22) -> 5968784.6 | M23: =SUM(M20:M22) -> 6386599.5 | N23: =SUM(N20:N22) -> 6833661.4
D24: Operating Profit | E24: =E17-E23 -> 7.0731833e+08 | F24: =F17-F23 -> 80565019 | G24: =F24/12 -> 6713751.5 | H24: =G24/30 -> 223791.72 | I24: =I17-I23 -> 86341070 | J24: =J17-J23 -> 92520095 | K24: =K17-K23 -> 99130166 | L24: =L17-L23 -> 1.0620131e+08 | M24: =M17-M23 -> 1.1376564e+08 | N24: =N17-N23 -> 1.2185749e+08
G25: =F25/12 -> 0 | H25: =G25/30 -> 0
A26: ROI | D26: ROI | E26: =SUM(F26:N26) -> 0 | F26: ='Data Sheet'!B43*B26 -> 0 | G26: =F26/12 -> 0 | H26: =G26/30 -> 0 | I26: =F26 -> 0 | J26: =I26 -> 0 | K26: =J26 -> 0 | L26: =K26 -> 0 | M26: =L26 -> 0 | N26: =M26 -> 0
B27: Insert ROI value in Cell B26 | D27: Net Profit Before Tax | E27: =E24-E26 -> 7.0731833e+08 | F27: =F24-F26 -> 80565019 | G27: =F27/12 -> 6713751.5 | H27: =G27/30 -> 223791.72 | I27: =I24-I26 -> 86341070 | J27: =J24-J26 -> 92520095 | K27: =K24-K26 -> 99130166 | L27: =L24-L26 -> 1.0620131e+08 | M27: =M24-M26 -> 1.1376564e+08 | N27: =N24-N26 -> 1.2185749e+08
D28: Income Tax | E28: =SUM(F28:N28) -> 2.121955e+08 | F28: =IF(F44<0,F4*4%,F27*30%) -> 24169506 | G28: =F28/12 -> 2014125.5 | H28: =G28/30 -> 67137.515 | I28: =IF(I44<0,I4*4%,I27*30%) -> 25902321 | J28: =IF(J44<0,J4*4%,J27*30%) -> 27756028 | K28: =IF(K44<0,K4*4%,K27*30%) -> 29739050 | L28: =IF(L44<0,L4*4%,L27*30%) -> 31860393 | M28: =IF(M44<0,M4*4%,M27*30%) -> 34129691 | N28: =IF(N44<0,N4*4%,N27*30%) -> 36557247
D29: Net Profit After Tax | E29: =E27-E28 -> 4.9512283e+08 | F29: =F27-F28 -> 56395513 | G29: =F29/12 -> 4699626.1 | H29: =G29/30 -> 156654.2 | I29: =I27-I28 -> 60438749 | J29: =J27-J28 -> 64764066 | K29: =K27-K28 -> 69391116 | L29: =L27-L28 -> 74340917 | M29: =M27-M28 -> 79635945 | N29: =N27-N28 -> 85300242
G30: =F30/12 -> 0 | H30: =G30/30 -> 0
D33: Effective Tax Rate | E33: =E28/E27 -> 0.3 | G33: =F33/12 -> 0 | H33: =G33/30 -> 0
G34: =F34/12 -> 0 | H34: =G34/30 -> 0
D35: Profit Margin | E35: =E29/E4 -> 0.51168475 | F35: =F29/F3 -> 0.50939195 | G35: =F35/12 -> 0.042449329 | H35: =G35/30 -> 0.0014149776 | I35: =I29/I3 -> 0.51019855 | J35: =J29/J3 -> 0.51094492 | K35: =K29/K3 -> 0.51163479 | L35: =L29/L3 -> 0.51227166 | M35: =M29/M3 -> 0.51285876 | N35: =N29/N3 -> 0.51339913
G36: =F36/12 -> 0 | H36: =G36/30 -> 0
G37: =F37/12 -> 0 | H37: =G37/30 -> 0
G38: =F38/12 -> 0 | H38: =G38/30 -> 0
D39: Income Tax | G39: =F39/12 -> 0 | H39: =G39/30 -> 0
D40: Profit Before Tax | F40: =F27 -> 80565019 | G40: =F40/12 -> 6713751.5 | H40: =G40/30 -> 223791.72 | I40: =I27 -> 86341070 | J40: =J27 -> 92520095 | K40: =K27 -> 99130166 | L40: =L27 -> 1.0620131e+08 | M40: =M27 -> 1.1376564e+08 | N40: =N27 -> 1.2185749e+08
D41: Depreciation | G41: =F41/12 -> 0 | H41: =G41/30 -> 0
D42: Lease Charges | F42: =[2]Leasing!E4*12 -> 0 | G42: =F42/12 -> 0 | H42: =G42/30 -> 0 | I42: =F42 -> 0 | J42: =I42 -> 0 | K42: =J42 -> 0 | L42: =K42 -> 0
F43: =SUM(F40:F42) -> 80565019 | G43: =F43/12 -> 6713751.5 | H43: =G43/30 -> 223791.72 | I43: =SUM(I40:I42) -> 86341070 | J43: =SUM(J40:J42) -> 92520095 | K43: =SUM(K40:K42) -> 99130166 | L43: =SUM(L40:L42) -> 1.0620131e+08 | M43: =SUM(M40:M42) -> 1.1376564e+08 | N43: =SUM(N40:N42) -> 1.2185749e+08
...
